BEGIN:VCALENDAR
VERSION:2.0
PRODID:-//Tukios.com/
BEGIN:VEVENT
UID:1990ee35-b548-4c98-afac-81fc9db70377@www.turnerfuneralhomes.com
DTSTAMP:20260421T125954Z
DTSTART:20260509T160000Z
DTEND:20260509T170000Z
SUMMARY:Celebration of Life
DESCRIPTION:
URL:https://www.turnerfuneralhomes.com/obituaries/beverly-butler
LOCATION:First Presbyterian Church 3501 Hill Avenue  Spirit Lake IA 51360
GEO:43.4085242;-95.1012792
END:VEVENT
END:VCALENDAR